BEGIN:VCALENDAR
VERSION:2.0
PRODID:-//San Gabriel Valley Radio Control League - ECPv6.15.20//NONSGML v1.0//EN
CALSCALE:GREGORIAN
METHOD:PUBLISH
X-ORIGINAL-URL:http://www.sgvrcl.com
X-WR-CALDESC:Events for San Gabriel Valley Radio Control League
REFRESH-INTERVAL;VALUE=DURATION:PT1H
X-Robots-Tag:noindex
X-PUBLISHED-TTL:PT1H
BEGIN:VTIMEZONE
TZID:America/Los_Angeles
BEGIN:DAYLIGHT
TZOFFSETFROM:-0800
TZOFFSETTO:-0700
TZNAME:PDT
DTSTART:20180311T100000
END:DAYLIGHT
BEGIN:STANDARD
TZOFFSETFROM:-0700
TZOFFSETTO:-0800
TZNAME:PST
DTSTART:20181104T090000
END:STANDARD
BEGIN:DAYLIGHT
TZOFFSETFROM:-0800
TZOFFSETTO:-0700
TZNAME:PDT
DTSTART:20190310T100000
END:DAYLIGHT
BEGIN:STANDARD
TZOFFSETFROM:-0700
TZOFFSETTO:-0800
TZNAME:PST
DTSTART:20191103T090000
END:STANDARD
BEGIN:DAYLIGHT
TZOFFSETFROM:-0800
TZOFFSETTO:-0700
TZNAME:PDT
DTSTART:20200308T100000
END:DAYLIGHT
BEGIN:STANDARD
TZOFFSETFROM:-0700
TZOFFSETTO:-0800
TZNAME:PST
DTSTART:20201101T090000
END:STANDARD
BEGIN:DAYLIGHT
TZOFFSETFROM:-0800
TZOFFSETTO:-0700
TZNAME:PDT
DTSTART:20210314T100000
END:DAYLIGHT
BEGIN:STANDARD
TZOFFSETFROM:-0700
TZOFFSETTO:-0800
TZNAME:PST
DTSTART:20211107T090000
END:STANDARD
BEGIN:DAYLIGHT
TZOFFSETFROM:-0800
TZOFFSETTO:-0700
TZNAME:PDT
DTSTART:20220313T100000
END:DAYLIGHT
BEGIN:STANDARD
TZOFFSETFROM:-0700
TZOFFSETTO:-0800
TZNAME:PST
DTSTART:20221106T090000
END:STANDARD
BEGIN:DAYLIGHT
TZOFFSETFROM:-0800
TZOFFSETTO:-0700
TZNAME:PDT
DTSTART:20230312T100000
END:DAYLIGHT
BEGIN:STANDARD
TZOFFSETFROM:-0700
TZOFFSETTO:-0800
TZNAME:PST
DTSTART:20231105T090000
END:STANDARD
END:VTIMEZONE
BEGIN:VEVENT
DTSTART;TZID=America/Los_Angeles:20220314T080000
DTEND;TZID=America/Los_Angeles:20220314T140000
DTSTAMP:20260421T122309
CREATED:20190211T151749Z
LAST-MODIFIED:20250210T142356Z
UID:10000144-1647244800-1647266400@www.sgvrcl.com
SUMMARY:SGVRCL Float Fly
DESCRIPTION:Jul 25\, 2018
URL:http://www.sgvrcl.com/event/sgvrcl-float-fly/2022-03-14/
LOCATION:Legg Lake\, South El Monte\, CA\, 91733\, United States
GEO:34.032107;-118.063331
END:VEVENT
BEGIN:VEVENT
DTSTART;TZID=America/Los_Angeles:20220214T080000
DTEND;TZID=America/Los_Angeles:20220214T140000
DTSTAMP:20260421T122309
CREATED:20190211T151749Z
LAST-MODIFIED:20250210T142356Z
UID:10000143-1644825600-1644847200@www.sgvrcl.com
SUMMARY:SGVRCL Float Fly
DESCRIPTION:Jul 25\, 2018
URL:http://www.sgvrcl.com/event/sgvrcl-float-fly/2022-02-14/
LOCATION:Legg Lake\, South El Monte\, CA\, 91733\, United States
GEO:34.032107;-118.063331
END:VEVENT
BEGIN:VEVENT
DTSTART;TZID=America/Los_Angeles:20220110T080000
DTEND;TZID=America/Los_Angeles:20220110T140000
DTSTAMP:20260421T122309
CREATED:20190211T151749Z
LAST-MODIFIED:20250210T142356Z
UID:10000142-1641801600-1641823200@www.sgvrcl.com
SUMMARY:SGVRCL Float Fly
DESCRIPTION:Jul 25\, 2018
URL:http://www.sgvrcl.com/event/sgvrcl-float-fly/2022-01-10/
LOCATION:Legg Lake\, South El Monte\, CA\, 91733\, United States
GEO:34.032107;-118.063331
END:VEVENT
BEGIN:VEVENT
DTSTART;TZID=America/Los_Angeles:20211213T080000
DTEND;TZID=America/Los_Angeles:20211213T140000
DTSTAMP:20260421T122309
CREATED:20190211T151749Z
LAST-MODIFIED:20211210T154752Z
UID:10000112-1639382400-1639404000@www.sgvrcl.com
SUMMARY:CANCELED - SGVRCL Float Fly
DESCRIPTION:Canceled due to rain \nJul 25\, 2018
URL:http://www.sgvrcl.com/event/sgvrcl-float-fly-2021-12-13/
LOCATION:Legg Lake\, South El Monte\, CA\, 91733\, United States
GEO:34.032107;-118.063331
END:VEVENT
BEGIN:VEVENT
DTSTART;TZID=America/Los_Angeles:20211108T080000
DTEND;TZID=America/Los_Angeles:20211108T140000
DTSTAMP:20260421T122309
CREATED:20190211T151749Z
LAST-MODIFIED:20250210T142356Z
UID:10000141-1636358400-1636380000@www.sgvrcl.com
SUMMARY:SGVRCL Float Fly
DESCRIPTION:Jul 25\, 2018
URL:http://www.sgvrcl.com/event/sgvrcl-float-fly/2021-11-08/
LOCATION:Legg Lake\, South El Monte\, CA\, 91733\, United States
GEO:34.032107;-118.063331
END:VEVENT
BEGIN:VEVENT
DTSTART;TZID=America/Los_Angeles:20211011T080000
DTEND;TZID=America/Los_Angeles:20211011T140000
DTSTAMP:20260421T122309
CREATED:20190211T151749Z
LAST-MODIFIED:20250210T142356Z
UID:10000140-1633939200-1633960800@www.sgvrcl.com
SUMMARY:SGVRCL Float Fly
DESCRIPTION:Jul 25\, 2018
URL:http://www.sgvrcl.com/event/sgvrcl-float-fly/2021-10-11/
LOCATION:Legg Lake\, South El Monte\, CA\, 91733\, United States
GEO:34.032107;-118.063331
END:VEVENT
BEGIN:VEVENT
DTSTART;TZID=America/Los_Angeles:20210913T080000
DTEND;TZID=America/Los_Angeles:20210913T140000
DTSTAMP:20260421T122309
CREATED:20190211T151749Z
LAST-MODIFIED:20250210T142356Z
UID:10000139-1631520000-1631541600@www.sgvrcl.com
SUMMARY:SGVRCL Float Fly
DESCRIPTION:Jul 25\, 2018
URL:http://www.sgvrcl.com/event/sgvrcl-float-fly/2021-09-13/
LOCATION:Legg Lake\, South El Monte\, CA\, 91733\, United States
GEO:34.032107;-118.063331
END:VEVENT
BEGIN:VEVENT
DTSTART;TZID=America/Los_Angeles:20210809T080000
DTEND;TZID=America/Los_Angeles:20210809T140000
DTSTAMP:20260421T122309
CREATED:20190211T151749Z
LAST-MODIFIED:20210806T141541Z
UID:10000113-1628496000-1628517600@www.sgvrcl.com
SUMMARY:CANCELED! SGVRCL Float Fly
DESCRIPTION:The float fly this month is unfortunately canceled. \nBut there is some good news. An agreement has been reached and we should be able to get some keys for the gate soon. So I’m guessing by the September float fly we should be back to the way it was. \nJul 25\, 2018
URL:http://www.sgvrcl.com/event/sgvrcl-float-fly-2021-08-09/
LOCATION:Legg Lake\, South El Monte\, CA\, 91733\, United States
GEO:34.032107;-118.063331
END:VEVENT
BEGIN:VEVENT
DTSTART;TZID=America/Los_Angeles:20210712T080000
DTEND;TZID=America/Los_Angeles:20210712T140000
DTSTAMP:20260421T122309
CREATED:20190211T151749Z
LAST-MODIFIED:20250210T142356Z
UID:10000138-1626076800-1626098400@www.sgvrcl.com
SUMMARY:SGVRCL Float Fly
DESCRIPTION:Jul 25\, 2018
URL:http://www.sgvrcl.com/event/sgvrcl-float-fly/2021-07-12/
LOCATION:Legg Lake\, South El Monte\, CA\, 91733\, United States
GEO:34.032107;-118.063331
END:VEVENT
BEGIN:VEVENT
DTSTART;TZID=America/Los_Angeles:20210510T080000
DTEND;TZID=America/Los_Angeles:20210510T140000
DTSTAMP:20260421T122310
CREATED:20190211T151749Z
LAST-MODIFIED:20210507T031010Z
UID:10000108-1620633600-1620655200@www.sgvrcl.com
SUMMARY:SGVRCL Float Fly - CANCELED
DESCRIPTION:Jul 25\, 2018
URL:http://www.sgvrcl.com/event/sgvrcl-float-fly-2021-05-10/
LOCATION:Legg Lake\, South El Monte\, CA\, 91733\, United States
GEO:34.032107;-118.063331
END:VEVENT
BEGIN:VEVENT
DTSTART;TZID=America/Los_Angeles:20210412T080000
DTEND;TZID=America/Los_Angeles:20210412T140000
DTSTAMP:20260421T122310
CREATED:20190211T151749Z
LAST-MODIFIED:20210406T145210Z
UID:10000114-1618214400-1618236000@www.sgvrcl.com
SUMMARY:SGVRCL Float Fly - CANCELED
DESCRIPTION:Jul 25\, 2018
URL:http://www.sgvrcl.com/event/sgvrcl-float-fly-2021-04-12/
LOCATION:Legg Lake\, South El Monte\, CA\, 91733\, United States
GEO:34.032107;-118.063331
END:VEVENT
BEGIN:VEVENT
DTSTART;TZID=America/Los_Angeles:20210308T080000
DTEND;TZID=America/Los_Angeles:20210308T140000
DTSTAMP:20260421T122310
CREATED:20190211T151749Z
LAST-MODIFIED:20250210T142356Z
UID:10000137-1615190400-1615212000@www.sgvrcl.com
SUMMARY:SGVRCL Float Fly
DESCRIPTION:Jul 25\, 2018
URL:http://www.sgvrcl.com/event/sgvrcl-float-fly/2021-03-08/
LOCATION:Legg Lake\, South El Monte\, CA\, 91733\, United States
GEO:34.032107;-118.063331
END:VEVENT
BEGIN:VEVENT
DTSTART;TZID=America/Los_Angeles:20210208T080000
DTEND;TZID=America/Los_Angeles:20210208T140000
DTSTAMP:20260421T122310
CREATED:20190211T151749Z
LAST-MODIFIED:20250210T142356Z
UID:10000136-1612771200-1612792800@www.sgvrcl.com
SUMMARY:SGVRCL Float Fly
DESCRIPTION:Jul 25\, 2018
URL:http://www.sgvrcl.com/event/sgvrcl-float-fly/2021-02-08/
LOCATION:Legg Lake\, South El Monte\, CA\, 91733\, United States
GEO:34.032107;-118.063331
END:VEVENT
BEGIN:VEVENT
DTSTART;TZID=America/Los_Angeles:20210111T080000
DTEND;TZID=America/Los_Angeles:20210111T140000
DTSTAMP:20260421T122310
CREATED:20190211T151749Z
LAST-MODIFIED:20250210T142356Z
UID:10000135-1610352000-1610373600@www.sgvrcl.com
SUMMARY:SGVRCL Float Fly
DESCRIPTION:Jul 25\, 2018
URL:http://www.sgvrcl.com/event/sgvrcl-float-fly/2021-01-11/
LOCATION:Legg Lake\, South El Monte\, CA\, 91733\, United States
GEO:34.032107;-118.063331
END:VEVENT
BEGIN:VEVENT
DTSTART;TZID=America/Los_Angeles:20201214T080000
DTEND;TZID=America/Los_Angeles:20201214T140000
DTSTAMP:20260421T122310
CREATED:20190211T151749Z
LAST-MODIFIED:20250210T142356Z
UID:10000134-1607932800-1607954400@www.sgvrcl.com
SUMMARY:SGVRCL Float Fly
DESCRIPTION:Jul 25\, 2018
URL:http://www.sgvrcl.com/event/sgvrcl-float-fly/2020-12-14/
LOCATION:Legg Lake\, South El Monte\, CA\, 91733\, United States
GEO:34.032107;-118.063331
END:VEVENT
BEGIN:VEVENT
DTSTART;TZID=America/Los_Angeles:20201109T080000
DTEND;TZID=America/Los_Angeles:20201109T140000
DTSTAMP:20260421T122310
CREATED:20190211T151749Z
LAST-MODIFIED:20250210T142356Z
UID:10000133-1604908800-1604930400@www.sgvrcl.com
SUMMARY:SGVRCL Float Fly
DESCRIPTION:Jul 25\, 2018
URL:http://www.sgvrcl.com/event/sgvrcl-float-fly/2020-11-09/
LOCATION:Legg Lake\, South El Monte\, CA\, 91733\, United States
GEO:34.032107;-118.063331
END:VEVENT
BEGIN:VEVENT
DTSTART;TZID=America/Los_Angeles:20201012T080000
DTEND;TZID=America/Los_Angeles:20201012T140000
DTSTAMP:20260421T122310
CREATED:20190211T151749Z
LAST-MODIFIED:20250210T142356Z
UID:10000132-1602489600-1602511200@www.sgvrcl.com
SUMMARY:SGVRCL Float Fly
DESCRIPTION:Jul 25\, 2018
URL:http://www.sgvrcl.com/event/sgvrcl-float-fly/2020-10-12/
LOCATION:Legg Lake\, South El Monte\, CA\, 91733\, United States
GEO:34.032107;-118.063331
END:VEVENT
BEGIN:VEVENT
DTSTART;TZID=America/Los_Angeles:20200914T080000
DTEND;TZID=America/Los_Angeles:20200914T140000
DTSTAMP:20260421T122310
CREATED:20190211T151749Z
LAST-MODIFIED:20250210T142356Z
UID:10000131-1600070400-1600092000@www.sgvrcl.com
SUMMARY:SGVRCL Float Fly
DESCRIPTION:Jul 25\, 2018
URL:http://www.sgvrcl.com/event/sgvrcl-float-fly/2020-09-14/
LOCATION:Legg Lake\, South El Monte\, CA\, 91733\, United States
GEO:34.032107;-118.063331
END:VEVENT
BEGIN:VEVENT
DTSTART;TZID=America/Los_Angeles:20200810T080000
DTEND;TZID=America/Los_Angeles:20200810T140000
DTSTAMP:20260421T122310
CREATED:20190211T151749Z
LAST-MODIFIED:20250210T142356Z
UID:10000130-1597046400-1597068000@www.sgvrcl.com
SUMMARY:SGVRCL Float Fly
DESCRIPTION:Jul 25\, 2018
URL:http://www.sgvrcl.com/event/sgvrcl-float-fly/2020-08-10/
LOCATION:Legg Lake\, South El Monte\, CA\, 91733\, United States
GEO:34.032107;-118.063331
END:VEVENT
BEGIN:VEVENT
DTSTART;TZID=America/Los_Angeles:20200713T080000
DTEND;TZID=America/Los_Angeles:20200713T140000
DTSTAMP:20260421T122310
CREATED:20190211T151749Z
LAST-MODIFIED:20250210T142356Z
UID:10000129-1594627200-1594648800@www.sgvrcl.com
SUMMARY:SGVRCL Float Fly
DESCRIPTION:Jul 25\, 2018
URL:http://www.sgvrcl.com/event/sgvrcl-float-fly/2020-07-13/
LOCATION:Legg Lake\, South El Monte\, CA\, 91733\, United States
GEO:34.032107;-118.063331
END:VEVENT
BEGIN:VEVENT
DTSTART;TZID=America/Los_Angeles:20200608T080000
DTEND;TZID=America/Los_Angeles:20200608T140000
DTSTAMP:20260421T122310
CREATED:20190211T151749Z
LAST-MODIFIED:20200607T034151Z
UID:10000115-1591603200-1591624800@www.sgvrcl.com
SUMMARY:SGVRCL Float Fly
DESCRIPTION:A maximum of 10 people can participate in the float fly.\nMasks are required at all times\nPhysical distancing of 6 feet required at all times\nParticipants may touch only their own models and equipment\nA maximum of 3 pilots may fly at any time\nParking inside the gate is for handicapped only\, all others must park outside the gates\nNo BBQ or Picnics\n\nJul 25\, 2018
URL:http://www.sgvrcl.com/event/sgvrcl-float-fly-2020-06-08/
LOCATION:Legg Lake\, South El Monte\, CA\, 91733\, United States
GEO:34.032107;-118.063331
END:VEVENT
BEGIN:VEVENT
DTSTART;TZID=America/Los_Angeles:20200511T080000
DTEND;TZID=America/Los_Angeles:20200511T140000
DTSTAMP:20260421T122310
CREATED:20190211T151749Z
LAST-MODIFIED:20200511T140154Z
UID:10000109-1589184000-1589205600@www.sgvrcl.com
SUMMARY:SGVRCL Float Fly - CANCELED
DESCRIPTION:Jul 25\, 2018
URL:http://www.sgvrcl.com/event/sgvrcl-float-fly-2020-05-11/
LOCATION:Legg Lake\, South El Monte\, CA\, 91733\, United States
GEO:34.032107;-118.063331
END:VEVENT
BEGIN:VEVENT
DTSTART;TZID=America/Los_Angeles:20200413T080000
DTEND;TZID=America/Los_Angeles:20200413T140000
DTSTAMP:20260421T122310
CREATED:20190211T151749Z
LAST-MODIFIED:20250210T142356Z
UID:10000128-1586764800-1586786400@www.sgvrcl.com
SUMMARY:SGVRCL Float Fly
DESCRIPTION:Jul 25\, 2018
URL:http://www.sgvrcl.com/event/sgvrcl-float-fly/2020-04-13/
LOCATION:Legg Lake\, South El Monte\, CA\, 91733\, United States
GEO:34.032107;-118.063331
END:VEVENT
BEGIN:VEVENT
DTSTART;TZID=America/Los_Angeles:20200309T080000
DTEND;TZID=America/Los_Angeles:20200309T140000
DTSTAMP:20260421T122310
CREATED:20190211T151749Z
LAST-MODIFIED:20250210T142356Z
UID:10000127-1583740800-1583762400@www.sgvrcl.com
SUMMARY:SGVRCL Float Fly
DESCRIPTION:Jul 25\, 2018
URL:http://www.sgvrcl.com/event/sgvrcl-float-fly/2020-03-09/
LOCATION:Legg Lake\, South El Monte\, CA\, 91733\, United States
GEO:34.032107;-118.063331
END:VEVENT
BEGIN:VEVENT
DTSTART;TZID=America/Los_Angeles:20200210T080000
DTEND;TZID=America/Los_Angeles:20200210T140000
DTSTAMP:20260421T122310
CREATED:20190211T151749Z
LAST-MODIFIED:20250210T142356Z
UID:10000126-1581321600-1581343200@www.sgvrcl.com
SUMMARY:SGVRCL Float Fly
DESCRIPTION:Jul 25\, 2018
URL:http://www.sgvrcl.com/event/sgvrcl-float-fly/2020-02-10/
LOCATION:Legg Lake\, South El Monte\, CA\, 91733\, United States
GEO:34.032107;-118.063331
END:VEVENT
BEGIN:VEVENT
DTSTART;TZID=America/Los_Angeles:20200113T080000
DTEND;TZID=America/Los_Angeles:20200113T140000
DTSTAMP:20260421T122310
CREATED:20190211T151749Z
LAST-MODIFIED:20250210T142356Z
UID:10000125-1578902400-1578924000@www.sgvrcl.com
SUMMARY:SGVRCL Float Fly
DESCRIPTION:Jul 25\, 2018
URL:http://www.sgvrcl.com/event/sgvrcl-float-fly/2020-01-13/
LOCATION:Legg Lake\, South El Monte\, CA\, 91733\, United States
GEO:34.032107;-118.063331
END:VEVENT
BEGIN:VEVENT
DTSTART;TZID=America/Los_Angeles:20191209T080000
DTEND;TZID=America/Los_Angeles:20191209T140000
DTSTAMP:20260421T122310
CREATED:20190211T151749Z
LAST-MODIFIED:20250210T142356Z
UID:10000124-1575878400-1575900000@www.sgvrcl.com
SUMMARY:SGVRCL Float Fly
DESCRIPTION:Jul 25\, 2018
URL:http://www.sgvrcl.com/event/sgvrcl-float-fly/2019-12-09/
LOCATION:Legg Lake\, South El Monte\, CA\, 91733\, United States
GEO:34.032107;-118.063331
END:VEVENT
BEGIN:VEVENT
DTSTART;TZID=America/Los_Angeles:20191111T080000
DTEND;TZID=America/Los_Angeles:20191111T140000
DTSTAMP:20260421T122310
CREATED:20190211T151749Z
LAST-MODIFIED:20250210T142356Z
UID:10000123-1573459200-1573480800@www.sgvrcl.com
SUMMARY:SGVRCL Float Fly
DESCRIPTION:Jul 25\, 2018
URL:http://www.sgvrcl.com/event/sgvrcl-float-fly/2019-11-11/
LOCATION:Legg Lake\, South El Monte\, CA\, 91733\, United States
GEO:34.032107;-118.063331
END:VEVENT
BEGIN:VEVENT
DTSTART;TZID=America/Los_Angeles:20191014T080000
DTEND;TZID=America/Los_Angeles:20191014T140000
DTSTAMP:20260421T122310
CREATED:20190211T151749Z
LAST-MODIFIED:20250210T142356Z
UID:10000122-1571040000-1571061600@www.sgvrcl.com
SUMMARY:SGVRCL Float Fly
DESCRIPTION:Jul 25\, 2018
URL:http://www.sgvrcl.com/event/sgvrcl-float-fly/2019-10-14/
LOCATION:Legg Lake\, South El Monte\, CA\, 91733\, United States
GEO:34.032107;-118.063331
END:VEVENT
BEGIN:VEVENT
DTSTART;TZID=America/Los_Angeles:20190909T080000
DTEND;TZID=America/Los_Angeles:20190909T140000
DTSTAMP:20260421T122310
CREATED:20190211T151749Z
LAST-MODIFIED:20250210T142356Z
UID:10000121-1568016000-1568037600@www.sgvrcl.com
SUMMARY:SGVRCL Float Fly
DESCRIPTION:Jul 25\, 2018
URL:http://www.sgvrcl.com/event/sgvrcl-float-fly/2019-09-09/
LOCATION:Legg Lake\, South El Monte\, CA\, 91733\, United States
GEO:34.032107;-118.063331
END:VEVENT
END:VCALENDAR