BEGIN:VCALENDAR
VERSION:2.0
PRODID:-//San Gabriel Valley Radio Control League - ECPv6.15.20//NONSGML v1.0//EN
CALSCALE:GREGORIAN
METHOD:PUBLISH
X-ORIGINAL-URL:http://www.sgvrcl.com
X-WR-CALDESC:Events for San Gabriel Valley Radio Control League
REFRESH-INTERVAL;VALUE=DURATION:PT1H
X-Robots-Tag:noindex
X-PUBLISHED-TTL:PT1H
BEGIN:VTIMEZONE
TZID:America/Los_Angeles
BEGIN:DAYLIGHT
TZOFFSETFROM:-0800
TZOFFSETTO:-0700
TZNAME:PDT
DTSTART:20270314T100000
END:DAYLIGHT
BEGIN:STANDARD
TZOFFSETFROM:-0700
TZOFFSETTO:-0800
TZNAME:PST
DTSTART:20271107T090000
END:STANDARD
BEGIN:DAYLIGHT
TZOFFSETFROM:-0800
TZOFFSETTO:-0700
TZNAME:PDT
DTSTART:20280312T100000
END:DAYLIGHT
BEGIN:STANDARD
TZOFFSETFROM:-0700
TZOFFSETTO:-0800
TZNAME:PST
DTSTART:20281105T090000
END:STANDARD
BEGIN:DAYLIGHT
TZOFFSETFROM:-0800
TZOFFSETTO:-0700
TZNAME:PDT
DTSTART:20290311T100000
END:DAYLIGHT
BEGIN:STANDARD
TZOFFSETFROM:-0700
TZOFFSETTO:-0800
TZNAME:PST
DTSTART:20291104T090000
END:STANDARD
BEGIN:DAYLIGHT
TZOFFSETFROM:-0800
TZOFFSETTO:-0700
TZNAME:PDT
DTSTART:20300310T100000
END:DAYLIGHT
BEGIN:STANDARD
TZOFFSETFROM:-0700
TZOFFSETTO:-0800
TZNAME:PST
DTSTART:20301103T090000
END:STANDARD
BEGIN:DAYLIGHT
TZOFFSETFROM:-0800
TZOFFSETTO:-0700
TZNAME:PDT
DTSTART:20310309T100000
END:DAYLIGHT
BEGIN:STANDARD
TZOFFSETFROM:-0700
TZOFFSETTO:-0800
TZNAME:PST
DTSTART:20311102T090000
END:STANDARD
END:VTIMEZONE
BEGIN:VEVENT
DTSTART;TZID=America/Los_Angeles:20280112T090000
DTEND;TZID=America/Los_Angeles:20280112T130000
DTSTAMP:20260419T094412
CREATED:20250910T020945Z
LAST-MODIFIED:20250910T020945Z
UID:10000519-1831280400-1831294800@www.sgvrcl.com
SUMMARY:SGVRCL Float Fly
DESCRIPTION:Jul 25\, 2018
URL:http://www.sgvrcl.com/event/sgvrcl-float-fly-4/2028-01-12/
LOCATION:Legg Lake\, South El Monte\, CA\, 91733\, United States
GEO:34.032107;-118.063331
END:VEVENT
BEGIN:VEVENT
DTSTART;TZID=America/Los_Angeles:20280209T090000
DTEND;TZID=America/Los_Angeles:20280209T130000
DTSTAMP:20260419T094412
CREATED:20250910T020945Z
LAST-MODIFIED:20250910T020945Z
UID:10000520-1833699600-1833714000@www.sgvrcl.com
SUMMARY:SGVRCL Float Fly
DESCRIPTION:Jul 25\, 2018
URL:http://www.sgvrcl.com/event/sgvrcl-float-fly-4/2028-02-09/
LOCATION:Legg Lake\, South El Monte\, CA\, 91733\, United States
GEO:34.032107;-118.063331
END:VEVENT
BEGIN:VEVENT
DTSTART;TZID=America/Los_Angeles:20280308T090000
DTEND;TZID=America/Los_Angeles:20280308T130000
DTSTAMP:20260419T094413
CREATED:20250910T020945Z
LAST-MODIFIED:20250910T020945Z
UID:10000521-1836118800-1836133200@www.sgvrcl.com
SUMMARY:SGVRCL Float Fly
DESCRIPTION:Jul 25\, 2018
URL:http://www.sgvrcl.com/event/sgvrcl-float-fly-4/2028-03-08/
LOCATION:Legg Lake\, South El Monte\, CA\, 91733\, United States
GEO:34.032107;-118.063331
END:VEVENT
BEGIN:VEVENT
DTSTART;TZID=America/Los_Angeles:20280412T090000
DTEND;TZID=America/Los_Angeles:20280412T130000
DTSTAMP:20260419T094413
CREATED:20250910T020945Z
LAST-MODIFIED:20250910T020945Z
UID:10000522-1839142800-1839157200@www.sgvrcl.com
SUMMARY:SGVRCL Float Fly
DESCRIPTION:Jul 25\, 2018
URL:http://www.sgvrcl.com/event/sgvrcl-float-fly-4/2028-04-12/
LOCATION:Legg Lake\, South El Monte\, CA\, 91733\, United States
GEO:34.032107;-118.063331
END:VEVENT
BEGIN:VEVENT
DTSTART;TZID=America/Los_Angeles:20280510T090000
DTEND;TZID=America/Los_Angeles:20280510T130000
DTSTAMP:20260419T094413
CREATED:20250910T020945Z
LAST-MODIFIED:20250910T020945Z
UID:10000523-1841562000-1841576400@www.sgvrcl.com
SUMMARY:SGVRCL Float Fly
DESCRIPTION:Jul 25\, 2018
URL:http://www.sgvrcl.com/event/sgvrcl-float-fly-4/2028-05-10/
LOCATION:Legg Lake\, South El Monte\, CA\, 91733\, United States
GEO:34.032107;-118.063331
END:VEVENT
BEGIN:VEVENT
DTSTART;TZID=America/Los_Angeles:20280614T090000
DTEND;TZID=America/Los_Angeles:20280614T130000
DTSTAMP:20260419T094413
CREATED:20250910T020945Z
LAST-MODIFIED:20250910T020945Z
UID:10000524-1844586000-1844600400@www.sgvrcl.com
SUMMARY:SGVRCL Float Fly
DESCRIPTION:Jul 25\, 2018
URL:http://www.sgvrcl.com/event/sgvrcl-float-fly-4/2028-06-14/
LOCATION:Legg Lake\, South El Monte\, CA\, 91733\, United States
GEO:34.032107;-118.063331
END:VEVENT
BEGIN:VEVENT
DTSTART;TZID=America/Los_Angeles:20280712T090000
DTEND;TZID=America/Los_Angeles:20280712T130000
DTSTAMP:20260419T094413
CREATED:20250910T020945Z
LAST-MODIFIED:20250910T020945Z
UID:10000525-1847005200-1847019600@www.sgvrcl.com
SUMMARY:SGVRCL Float Fly
DESCRIPTION:Jul 25\, 2018
URL:http://www.sgvrcl.com/event/sgvrcl-float-fly-4/2028-07-12/
LOCATION:Legg Lake\, South El Monte\, CA\, 91733\, United States
GEO:34.032107;-118.063331
END:VEVENT
BEGIN:VEVENT
DTSTART;TZID=America/Los_Angeles:20280809T090000
DTEND;TZID=America/Los_Angeles:20280809T130000
DTSTAMP:20260419T094413
CREATED:20250910T020945Z
LAST-MODIFIED:20250910T020945Z
UID:10000526-1849424400-1849438800@www.sgvrcl.com
SUMMARY:SGVRCL Float Fly
DESCRIPTION:Jul 25\, 2018
URL:http://www.sgvrcl.com/event/sgvrcl-float-fly-4/2028-08-09/
LOCATION:Legg Lake\, South El Monte\, CA\, 91733\, United States
GEO:34.032107;-118.063331
END:VEVENT
BEGIN:VEVENT
DTSTART;TZID=America/Los_Angeles:20280913T090000
DTEND;TZID=America/Los_Angeles:20280913T130000
DTSTAMP:20260419T094413
CREATED:20250910T020945Z
LAST-MODIFIED:20250910T020945Z
UID:10000527-1852448400-1852462800@www.sgvrcl.com
SUMMARY:SGVRCL Float Fly
DESCRIPTION:Jul 25\, 2018
URL:http://www.sgvrcl.com/event/sgvrcl-float-fly-4/2028-09-13/
LOCATION:Legg Lake\, South El Monte\, CA\, 91733\, United States
GEO:34.032107;-118.063331
END:VEVENT
BEGIN:VEVENT
DTSTART;TZID=America/Los_Angeles:20281011T090000
DTEND;TZID=America/Los_Angeles:20281011T130000
DTSTAMP:20260419T094413
CREATED:20250910T020945Z
LAST-MODIFIED:20250910T020945Z
UID:10000528-1854867600-1854882000@www.sgvrcl.com
SUMMARY:SGVRCL Float Fly
DESCRIPTION:Jul 25\, 2018
URL:http://www.sgvrcl.com/event/sgvrcl-float-fly-4/2028-10-11/
LOCATION:Legg Lake\, South El Monte\, CA\, 91733\, United States
GEO:34.032107;-118.063331
END:VEVENT
BEGIN:VEVENT
DTSTART;TZID=America/Los_Angeles:20281108T090000
DTEND;TZID=America/Los_Angeles:20281108T130000
DTSTAMP:20260419T094413
CREATED:20250910T020945Z
LAST-MODIFIED:20250910T020945Z
UID:10000529-1857286800-1857301200@www.sgvrcl.com
SUMMARY:SGVRCL Float Fly
DESCRIPTION:Jul 25\, 2018
URL:http://www.sgvrcl.com/event/sgvrcl-float-fly-4/2028-11-08/
LOCATION:Legg Lake\, South El Monte\, CA\, 91733\, United States
GEO:34.032107;-118.063331
END:VEVENT
BEGIN:VEVENT
DTSTART;TZID=America/Los_Angeles:20281213T090000
DTEND;TZID=America/Los_Angeles:20281213T130000
DTSTAMP:20260419T094413
CREATED:20250910T020945Z
LAST-MODIFIED:20250910T020945Z
UID:10000530-1860310800-1860325200@www.sgvrcl.com
SUMMARY:SGVRCL Float Fly
DESCRIPTION:Jul 25\, 2018
URL:http://www.sgvrcl.com/event/sgvrcl-float-fly-4/2028-12-13/
LOCATION:Legg Lake\, South El Monte\, CA\, 91733\, United States
GEO:34.032107;-118.063331
END:VEVENT
BEGIN:VEVENT
DTSTART;TZID=America/Los_Angeles:20290110T090000
DTEND;TZID=America/Los_Angeles:20290110T130000
DTSTAMP:20260419T094413
CREATED:20250910T020945Z
LAST-MODIFIED:20250910T020945Z
UID:10000531-1862730000-1862744400@www.sgvrcl.com
SUMMARY:SGVRCL Float Fly
DESCRIPTION:Jul 25\, 2018
URL:http://www.sgvrcl.com/event/sgvrcl-float-fly-4/2029-01-10/
LOCATION:Legg Lake\, South El Monte\, CA\, 91733\, United States
GEO:34.032107;-118.063331
END:VEVENT
BEGIN:VEVENT
DTSTART;TZID=America/Los_Angeles:20290214T090000
DTEND;TZID=America/Los_Angeles:20290214T130000
DTSTAMP:20260419T094413
CREATED:20250910T020945Z
LAST-MODIFIED:20250910T020945Z
UID:10000532-1865754000-1865768400@www.sgvrcl.com
SUMMARY:SGVRCL Float Fly
DESCRIPTION:Jul 25\, 2018
URL:http://www.sgvrcl.com/event/sgvrcl-float-fly-4/2029-02-14/
LOCATION:Legg Lake\, South El Monte\, CA\, 91733\, United States
GEO:34.032107;-118.063331
END:VEVENT
BEGIN:VEVENT
DTSTART;TZID=America/Los_Angeles:20290314T090000
DTEND;TZID=America/Los_Angeles:20290314T130000
DTSTAMP:20260419T094413
CREATED:20250910T020945Z
LAST-MODIFIED:20250910T020945Z
UID:10000533-1868173200-1868187600@www.sgvrcl.com
SUMMARY:SGVRCL Float Fly
DESCRIPTION:Jul 25\, 2018
URL:http://www.sgvrcl.com/event/sgvrcl-float-fly-4/2029-03-14/
LOCATION:Legg Lake\, South El Monte\, CA\, 91733\, United States
GEO:34.032107;-118.063331
END:VEVENT
BEGIN:VEVENT
DTSTART;TZID=America/Los_Angeles:20290411T090000
DTEND;TZID=America/Los_Angeles:20290411T130000
DTSTAMP:20260419T094413
CREATED:20250910T020945Z
LAST-MODIFIED:20250910T020945Z
UID:10000534-1870592400-1870606800@www.sgvrcl.com
SUMMARY:SGVRCL Float Fly
DESCRIPTION:Jul 25\, 2018
URL:http://www.sgvrcl.com/event/sgvrcl-float-fly-4/2029-04-11/
LOCATION:Legg Lake\, South El Monte\, CA\, 91733\, United States
GEO:34.032107;-118.063331
END:VEVENT
BEGIN:VEVENT
DTSTART;TZID=America/Los_Angeles:20290509T090000
DTEND;TZID=America/Los_Angeles:20290509T130000
DTSTAMP:20260419T094413
CREATED:20250910T020945Z
LAST-MODIFIED:20250910T020945Z
UID:10000535-1873011600-1873026000@www.sgvrcl.com
SUMMARY:SGVRCL Float Fly
DESCRIPTION:Jul 25\, 2018
URL:http://www.sgvrcl.com/event/sgvrcl-float-fly-4/2029-05-09/
LOCATION:Legg Lake\, South El Monte\, CA\, 91733\, United States
GEO:34.032107;-118.063331
END:VEVENT
BEGIN:VEVENT
DTSTART;TZID=America/Los_Angeles:20290613T090000
DTEND;TZID=America/Los_Angeles:20290613T130000
DTSTAMP:20260419T094413
CREATED:20250910T020945Z
LAST-MODIFIED:20250910T020945Z
UID:10000536-1876035600-1876050000@www.sgvrcl.com
SUMMARY:SGVRCL Float Fly
DESCRIPTION:Jul 25\, 2018
URL:http://www.sgvrcl.com/event/sgvrcl-float-fly-4/2029-06-13/
LOCATION:Legg Lake\, South El Monte\, CA\, 91733\, United States
GEO:34.032107;-118.063331
END:VEVENT
BEGIN:VEVENT
DTSTART;TZID=America/Los_Angeles:20290711T090000
DTEND;TZID=America/Los_Angeles:20290711T130000
DTSTAMP:20260419T094413
CREATED:20250910T020945Z
LAST-MODIFIED:20250910T020945Z
UID:10000537-1878454800-1878469200@www.sgvrcl.com
SUMMARY:SGVRCL Float Fly
DESCRIPTION:Jul 25\, 2018
URL:http://www.sgvrcl.com/event/sgvrcl-float-fly-4/2029-07-11/
LOCATION:Legg Lake\, South El Monte\, CA\, 91733\, United States
GEO:34.032107;-118.063331
END:VEVENT
BEGIN:VEVENT
DTSTART;TZID=America/Los_Angeles:20290808T090000
DTEND;TZID=America/Los_Angeles:20290808T130000
DTSTAMP:20260419T094413
CREATED:20250910T020945Z
LAST-MODIFIED:20250910T020945Z
UID:10000538-1880874000-1880888400@www.sgvrcl.com
SUMMARY:SGVRCL Float Fly
DESCRIPTION:Jul 25\, 2018
URL:http://www.sgvrcl.com/event/sgvrcl-float-fly-4/2029-08-08/
LOCATION:Legg Lake\, South El Monte\, CA\, 91733\, United States
GEO:34.032107;-118.063331
END:VEVENT
BEGIN:VEVENT
DTSTART;TZID=America/Los_Angeles:20290912T090000
DTEND;TZID=America/Los_Angeles:20290912T130000
DTSTAMP:20260419T094413
CREATED:20250910T020945Z
LAST-MODIFIED:20250910T020945Z
UID:10000539-1883898000-1883912400@www.sgvrcl.com
SUMMARY:SGVRCL Float Fly
DESCRIPTION:Jul 25\, 2018
URL:http://www.sgvrcl.com/event/sgvrcl-float-fly-4/2029-09-12/
LOCATION:Legg Lake\, South El Monte\, CA\, 91733\, United States
GEO:34.032107;-118.063331
END:VEVENT
BEGIN:VEVENT
DTSTART;TZID=America/Los_Angeles:20291010T090000
DTEND;TZID=America/Los_Angeles:20291010T130000
DTSTAMP:20260419T094413
CREATED:20250910T020945Z
LAST-MODIFIED:20250910T020945Z
UID:10000540-1886317200-1886331600@www.sgvrcl.com
SUMMARY:SGVRCL Float Fly
DESCRIPTION:Jul 25\, 2018
URL:http://www.sgvrcl.com/event/sgvrcl-float-fly-4/2029-10-10/
LOCATION:Legg Lake\, South El Monte\, CA\, 91733\, United States
GEO:34.032107;-118.063331
END:VEVENT
BEGIN:VEVENT
DTSTART;TZID=America/Los_Angeles:20291114T090000
DTEND;TZID=America/Los_Angeles:20291114T130000
DTSTAMP:20260419T094413
CREATED:20250910T020945Z
LAST-MODIFIED:20250910T020945Z
UID:10000541-1889341200-1889355600@www.sgvrcl.com
SUMMARY:SGVRCL Float Fly
DESCRIPTION:Jul 25\, 2018
URL:http://www.sgvrcl.com/event/sgvrcl-float-fly-4/2029-11-14/
LOCATION:Legg Lake\, South El Monte\, CA\, 91733\, United States
GEO:34.032107;-118.063331
END:VEVENT
BEGIN:VEVENT
DTSTART;TZID=America/Los_Angeles:20291212T090000
DTEND;TZID=America/Los_Angeles:20291212T130000
DTSTAMP:20260419T094413
CREATED:20250910T020945Z
LAST-MODIFIED:20250910T020945Z
UID:10000542-1891760400-1891774800@www.sgvrcl.com
SUMMARY:SGVRCL Float Fly
DESCRIPTION:Jul 25\, 2018
URL:http://www.sgvrcl.com/event/sgvrcl-float-fly-4/2029-12-12/
LOCATION:Legg Lake\, South El Monte\, CA\, 91733\, United States
GEO:34.032107;-118.063331
END:VEVENT
BEGIN:VEVENT
DTSTART;TZID=America/Los_Angeles:20300109T090000
DTEND;TZID=America/Los_Angeles:20300109T130000
DTSTAMP:20260419T094413
CREATED:20250910T020945Z
LAST-MODIFIED:20250910T020945Z
UID:10000543-1894179600-1894194000@www.sgvrcl.com
SUMMARY:SGVRCL Float Fly
DESCRIPTION:Jul 25\, 2018
URL:http://www.sgvrcl.com/event/sgvrcl-float-fly-4/2030-01-09/
LOCATION:Legg Lake\, South El Monte\, CA\, 91733\, United States
GEO:34.032107;-118.063331
END:VEVENT
BEGIN:VEVENT
DTSTART;TZID=America/Los_Angeles:20300213T090000
DTEND;TZID=America/Los_Angeles:20300213T130000
DTSTAMP:20260419T094413
CREATED:20250910T020945Z
LAST-MODIFIED:20250910T020945Z
UID:10000544-1897203600-1897218000@www.sgvrcl.com
SUMMARY:SGVRCL Float Fly
DESCRIPTION:Jul 25\, 2018
URL:http://www.sgvrcl.com/event/sgvrcl-float-fly-4/2030-02-13/
LOCATION:Legg Lake\, South El Monte\, CA\, 91733\, United States
GEO:34.032107;-118.063331
END:VEVENT
BEGIN:VEVENT
DTSTART;TZID=America/Los_Angeles:20300313T090000
DTEND;TZID=America/Los_Angeles:20300313T130000
DTSTAMP:20260419T094413
CREATED:20250910T020945Z
LAST-MODIFIED:20250910T020945Z
UID:10000545-1899622800-1899637200@www.sgvrcl.com
SUMMARY:SGVRCL Float Fly
DESCRIPTION:Jul 25\, 2018
URL:http://www.sgvrcl.com/event/sgvrcl-float-fly-4/2030-03-13/
LOCATION:Legg Lake\, South El Monte\, CA\, 91733\, United States
GEO:34.032107;-118.063331
END:VEVENT
BEGIN:VEVENT
DTSTART;TZID=America/Los_Angeles:20300410T090000
DTEND;TZID=America/Los_Angeles:20300410T130000
DTSTAMP:20260419T094413
CREATED:20250910T020945Z
LAST-MODIFIED:20250910T020945Z
UID:10000546-1902042000-1902056400@www.sgvrcl.com
SUMMARY:SGVRCL Float Fly
DESCRIPTION:Jul 25\, 2018
URL:http://www.sgvrcl.com/event/sgvrcl-float-fly-4/2030-04-10/
LOCATION:Legg Lake\, South El Monte\, CA\, 91733\, United States
GEO:34.032107;-118.063331
END:VEVENT
BEGIN:VEVENT
DTSTART;TZID=America/Los_Angeles:20300508T090000
DTEND;TZID=America/Los_Angeles:20300508T130000
DTSTAMP:20260419T094413
CREATED:20250910T020945Z
LAST-MODIFIED:20250910T020945Z
UID:10000547-1904461200-1904475600@www.sgvrcl.com
SUMMARY:SGVRCL Float Fly
DESCRIPTION:Jul 25\, 2018
URL:http://www.sgvrcl.com/event/sgvrcl-float-fly-4/2030-05-08/
LOCATION:Legg Lake\, South El Monte\, CA\, 91733\, United States
GEO:34.032107;-118.063331
END:VEVENT
BEGIN:VEVENT
DTSTART;TZID=America/Los_Angeles:20300612T090000
DTEND;TZID=America/Los_Angeles:20300612T130000
DTSTAMP:20260419T094413
CREATED:20250910T020945Z
LAST-MODIFIED:20250910T020945Z
UID:10000548-1907485200-1907499600@www.sgvrcl.com
SUMMARY:SGVRCL Float Fly
DESCRIPTION:Jul 25\, 2018
URL:http://www.sgvrcl.com/event/sgvrcl-float-fly-4/2030-06-12/
LOCATION:Legg Lake\, South El Monte\, CA\, 91733\, United States
GEO:34.032107;-118.063331
END:VEVENT
END:VCALENDAR