BEGIN:VCALENDAR
VERSION:2.0
PRODID:-//San Gabriel Valley Radio Control League - ECPv6.15.20//NONSGML v1.0//EN
CALSCALE:GREGORIAN
METHOD:PUBLISH
X-ORIGINAL-URL:http://www.sgvrcl.com
X-WR-CALDESC:Events for San Gabriel Valley Radio Control League
REFRESH-INTERVAL;VALUE=DURATION:PT1H
X-Robots-Tag:noindex
X-PUBLISHED-TTL:PT1H
BEGIN:VTIMEZONE
TZID:America/Los_Angeles
BEGIN:DAYLIGHT
TZOFFSETFROM:-0800
TZOFFSETTO:-0700
TZNAME:PDT
DTSTART:20210314T100000
END:DAYLIGHT
BEGIN:STANDARD
TZOFFSETFROM:-0700
TZOFFSETTO:-0800
TZNAME:PST
DTSTART:20211107T090000
END:STANDARD
BEGIN:DAYLIGHT
TZOFFSETFROM:-0800
TZOFFSETTO:-0700
TZNAME:PDT
DTSTART:20220313T100000
END:DAYLIGHT
BEGIN:STANDARD
TZOFFSETFROM:-0700
TZOFFSETTO:-0800
TZNAME:PST
DTSTART:20221106T090000
END:STANDARD
BEGIN:DAYLIGHT
TZOFFSETFROM:-0800
TZOFFSETTO:-0700
TZNAME:PDT
DTSTART:20230312T100000
END:DAYLIGHT
BEGIN:STANDARD
TZOFFSETFROM:-0700
TZOFFSETTO:-0800
TZNAME:PST
DTSTART:20231105T090000
END:STANDARD
BEGIN:DAYLIGHT
TZOFFSETFROM:-0800
TZOFFSETTO:-0700
TZNAME:PDT
DTSTART:20240310T100000
END:DAYLIGHT
BEGIN:STANDARD
TZOFFSETFROM:-0700
TZOFFSETTO:-0800
TZNAME:PST
DTSTART:20241103T090000
END:STANDARD
BEGIN:DAYLIGHT
TZOFFSETFROM:-0800
TZOFFSETTO:-0700
TZNAME:PDT
DTSTART:20250309T100000
END:DAYLIGHT
BEGIN:STANDARD
TZOFFSETFROM:-0700
TZOFFSETTO:-0800
TZNAME:PST
DTSTART:20251102T090000
END:STANDARD
END:VTIMEZONE
BEGIN:VEVENT
DTSTART;TZID=America/Los_Angeles:20240909T080000
DTEND;TZID=America/Los_Angeles:20240909T140000
DTSTAMP:20260421T073611
CREATED:20190211T151749Z
LAST-MODIFIED:20250210T142356Z
UID:10000174-1725868800-1725890400@www.sgvrcl.com
SUMMARY:SGVRCL Float Fly
DESCRIPTION:Jul 25\, 2018
URL:http://www.sgvrcl.com/event/sgvrcl-float-fly/2024-09-09/
LOCATION:Legg Lake\, South El Monte\, CA\, 91733\, United States
GEO:34.032107;-118.063331
END:VEVENT
BEGIN:VEVENT
DTSTART;TZID=America/Los_Angeles:20240812T080000
DTEND;TZID=America/Los_Angeles:20240812T140000
DTSTAMP:20260421T073611
CREATED:20190211T151749Z
LAST-MODIFIED:20250210T142356Z
UID:10000173-1723449600-1723471200@www.sgvrcl.com
SUMMARY:SGVRCL Float Fly
DESCRIPTION:Jul 25\, 2018
URL:http://www.sgvrcl.com/event/sgvrcl-float-fly/2024-08-12/
LOCATION:Legg Lake\, South El Monte\, CA\, 91733\, United States
GEO:34.032107;-118.063331
END:VEVENT
BEGIN:VEVENT
DTSTART;TZID=America/Los_Angeles:20240708T080000
DTEND;TZID=America/Los_Angeles:20240708T140000
DTSTAMP:20260421T073611
CREATED:20190211T151749Z
LAST-MODIFIED:20250210T142356Z
UID:10000172-1720425600-1720447200@www.sgvrcl.com
SUMMARY:SGVRCL Float Fly
DESCRIPTION:Jul 25\, 2018
URL:http://www.sgvrcl.com/event/sgvrcl-float-fly/2024-07-08/
LOCATION:Legg Lake\, South El Monte\, CA\, 91733\, United States
GEO:34.032107;-118.063331
END:VEVENT
BEGIN:VEVENT
DTSTART;TZID=America/Los_Angeles:20240610T080000
DTEND;TZID=America/Los_Angeles:20240610T140000
DTSTAMP:20260421T073611
CREATED:20190211T151749Z
LAST-MODIFIED:20250210T142356Z
UID:10000171-1718006400-1718028000@www.sgvrcl.com
SUMMARY:SGVRCL Float Fly
DESCRIPTION:Jul 25\, 2018
URL:http://www.sgvrcl.com/event/sgvrcl-float-fly/2024-06-10/
LOCATION:Legg Lake\, South El Monte\, CA\, 91733\, United States
GEO:34.032107;-118.063331
END:VEVENT
BEGIN:VEVENT
DTSTART;TZID=America/Los_Angeles:20240513T080000
DTEND;TZID=America/Los_Angeles:20240513T140000
DTSTAMP:20260421T073611
CREATED:20190211T151749Z
LAST-MODIFIED:20250210T142356Z
UID:10000170-1715587200-1715608800@www.sgvrcl.com
SUMMARY:SGVRCL Float Fly
DESCRIPTION:Jul 25\, 2018
URL:http://www.sgvrcl.com/event/sgvrcl-float-fly/2024-05-13/
LOCATION:Legg Lake\, South El Monte\, CA\, 91733\, United States
GEO:34.032107;-118.063331
END:VEVENT
BEGIN:VEVENT
DTSTART;TZID=America/Los_Angeles:20240408T080000
DTEND;TZID=America/Los_Angeles:20240408T140000
DTSTAMP:20260421T073611
CREATED:20190211T151749Z
LAST-MODIFIED:20250210T142356Z
UID:10000169-1712563200-1712584800@www.sgvrcl.com
SUMMARY:SGVRCL Float Fly
DESCRIPTION:Jul 25\, 2018
URL:http://www.sgvrcl.com/event/sgvrcl-float-fly/2024-04-08/
LOCATION:Legg Lake\, South El Monte\, CA\, 91733\, United States
GEO:34.032107;-118.063331
END:VEVENT
BEGIN:VEVENT
DTSTART;TZID=America/Los_Angeles:20240311T080000
DTEND;TZID=America/Los_Angeles:20240311T140000
DTSTAMP:20260421T073611
CREATED:20190211T151749Z
LAST-MODIFIED:20250210T142356Z
UID:10000168-1710144000-1710165600@www.sgvrcl.com
SUMMARY:SGVRCL Float Fly
DESCRIPTION:Jul 25\, 2018
URL:http://www.sgvrcl.com/event/sgvrcl-float-fly/2024-03-11/
LOCATION:Legg Lake\, South El Monte\, CA\, 91733\, United States
GEO:34.032107;-118.063331
END:VEVENT
BEGIN:VEVENT
DTSTART;TZID=America/Los_Angeles:20240212T080000
DTEND;TZID=America/Los_Angeles:20240212T140000
DTSTAMP:20260421T073611
CREATED:20190211T151749Z
LAST-MODIFIED:20250210T142356Z
UID:10000167-1707724800-1707746400@www.sgvrcl.com
SUMMARY:SGVRCL Float Fly
DESCRIPTION:Jul 25\, 2018
URL:http://www.sgvrcl.com/event/sgvrcl-float-fly/2024-02-12/
LOCATION:Legg Lake\, South El Monte\, CA\, 91733\, United States
GEO:34.032107;-118.063331
END:VEVENT
BEGIN:VEVENT
DTSTART;TZID=America/Los_Angeles:20240108T080000
DTEND;TZID=America/Los_Angeles:20240108T140000
DTSTAMP:20260421T073611
CREATED:20190211T151749Z
LAST-MODIFIED:20250210T142356Z
UID:10000166-1704700800-1704722400@www.sgvrcl.com
SUMMARY:SGVRCL Float Fly
DESCRIPTION:Jul 25\, 2018
URL:http://www.sgvrcl.com/event/sgvrcl-float-fly/2024-01-08/
LOCATION:Legg Lake\, South El Monte\, CA\, 91733\, United States
GEO:34.032107;-118.063331
END:VEVENT
BEGIN:VEVENT
DTSTART;TZID=America/Los_Angeles:20231211T080000
DTEND;TZID=America/Los_Angeles:20231211T140000
DTSTAMP:20260421T073611
CREATED:20190211T151749Z
LAST-MODIFIED:20250210T142356Z
UID:10000165-1702281600-1702303200@www.sgvrcl.com
SUMMARY:SGVRCL Float Fly
DESCRIPTION:Jul 25\, 2018
URL:http://www.sgvrcl.com/event/sgvrcl-float-fly/2023-12-11/
LOCATION:Legg Lake\, South El Monte\, CA\, 91733\, United States
GEO:34.032107;-118.063331
END:VEVENT
BEGIN:VEVENT
DTSTART;TZID=America/Los_Angeles:20231113T080000
DTEND;TZID=America/Los_Angeles:20231113T140000
DTSTAMP:20260421T073611
CREATED:20190211T151749Z
LAST-MODIFIED:20250210T142356Z
UID:10000164-1699862400-1699884000@www.sgvrcl.com
SUMMARY:SGVRCL Float Fly
DESCRIPTION:Jul 25\, 2018
URL:http://www.sgvrcl.com/event/sgvrcl-float-fly/2023-11-13/
LOCATION:Legg Lake\, South El Monte\, CA\, 91733\, United States
GEO:34.032107;-118.063331
END:VEVENT
BEGIN:VEVENT
DTSTART;TZID=America/Los_Angeles:20231009T080000
DTEND;TZID=America/Los_Angeles:20231009T140000
DTSTAMP:20260421T073611
CREATED:20190211T151749Z
LAST-MODIFIED:20250210T142356Z
UID:10000163-1696838400-1696860000@www.sgvrcl.com
SUMMARY:SGVRCL Float Fly
DESCRIPTION:Jul 25\, 2018
URL:http://www.sgvrcl.com/event/sgvrcl-float-fly/2023-10-09/
LOCATION:Legg Lake\, South El Monte\, CA\, 91733\, United States
GEO:34.032107;-118.063331
END:VEVENT
BEGIN:VEVENT
DTSTART;TZID=America/Los_Angeles:20230911T080000
DTEND;TZID=America/Los_Angeles:20230911T140000
DTSTAMP:20260421T073611
CREATED:20190211T151749Z
LAST-MODIFIED:20250210T142356Z
UID:10000162-1694419200-1694440800@www.sgvrcl.com
SUMMARY:SGVRCL Float Fly
DESCRIPTION:Jul 25\, 2018
URL:http://www.sgvrcl.com/event/sgvrcl-float-fly/2023-09-11/
LOCATION:Legg Lake\, South El Monte\, CA\, 91733\, United States
GEO:34.032107;-118.063331
END:VEVENT
BEGIN:VEVENT
DTSTART;TZID=America/Los_Angeles:20230814T080000
DTEND;TZID=America/Los_Angeles:20230814T140000
DTSTAMP:20260421T073611
CREATED:20190211T151749Z
LAST-MODIFIED:20250210T142356Z
UID:10000161-1692000000-1692021600@www.sgvrcl.com
SUMMARY:SGVRCL Float Fly
DESCRIPTION:Jul 25\, 2018
URL:http://www.sgvrcl.com/event/sgvrcl-float-fly/2023-08-14/
LOCATION:Legg Lake\, South El Monte\, CA\, 91733\, United States
GEO:34.032107;-118.063331
END:VEVENT
BEGIN:VEVENT
DTSTART;TZID=America/Los_Angeles:20230710T080000
DTEND;TZID=America/Los_Angeles:20230710T140000
DTSTAMP:20260421T073611
CREATED:20190211T151749Z
LAST-MODIFIED:20250210T142356Z
UID:10000160-1688976000-1688997600@www.sgvrcl.com
SUMMARY:SGVRCL Float Fly
DESCRIPTION:Jul 25\, 2018
URL:http://www.sgvrcl.com/event/sgvrcl-float-fly/2023-07-10/
LOCATION:Legg Lake\, South El Monte\, CA\, 91733\, United States
GEO:34.032107;-118.063331
END:VEVENT
BEGIN:VEVENT
DTSTART;TZID=America/Los_Angeles:20230612T080000
DTEND;TZID=America/Los_Angeles:20230612T140000
DTSTAMP:20260421T073611
CREATED:20190211T151749Z
LAST-MODIFIED:20250210T142356Z
UID:10000159-1686556800-1686578400@www.sgvrcl.com
SUMMARY:SGVRCL Float Fly
DESCRIPTION:Jul 25\, 2018
URL:http://www.sgvrcl.com/event/sgvrcl-float-fly/2023-06-12/
LOCATION:Legg Lake\, South El Monte\, CA\, 91733\, United States
GEO:34.032107;-118.063331
END:VEVENT
BEGIN:VEVENT
DTSTART;TZID=America/Los_Angeles:20230508T080000
DTEND;TZID=America/Los_Angeles:20230508T140000
DTSTAMP:20260421T073611
CREATED:20190211T151749Z
LAST-MODIFIED:20250210T142356Z
UID:10000158-1683532800-1683554400@www.sgvrcl.com
SUMMARY:SGVRCL Float Fly
DESCRIPTION:Jul 25\, 2018
URL:http://www.sgvrcl.com/event/sgvrcl-float-fly/2023-05-08/
LOCATION:Legg Lake\, South El Monte\, CA\, 91733\, United States
GEO:34.032107;-118.063331
END:VEVENT
BEGIN:VEVENT
DTSTART;TZID=America/Los_Angeles:20230410T080000
DTEND;TZID=America/Los_Angeles:20230410T140000
DTSTAMP:20260421T073611
CREATED:20190211T151749Z
LAST-MODIFIED:20250210T142356Z
UID:10000157-1681113600-1681135200@www.sgvrcl.com
SUMMARY:SGVRCL Float Fly
DESCRIPTION:Jul 25\, 2018
URL:http://www.sgvrcl.com/event/sgvrcl-float-fly/2023-04-10/
LOCATION:Legg Lake\, South El Monte\, CA\, 91733\, United States
GEO:34.032107;-118.063331
END:VEVENT
BEGIN:VEVENT
DTSTART;TZID=America/Los_Angeles:20230313T080000
DTEND;TZID=America/Los_Angeles:20230313T140000
DTSTAMP:20260421T073611
CREATED:20190211T151749Z
LAST-MODIFIED:20250210T142356Z
UID:10000156-1678694400-1678716000@www.sgvrcl.com
SUMMARY:SGVRCL Float Fly
DESCRIPTION:Jul 25\, 2018
URL:http://www.sgvrcl.com/event/sgvrcl-float-fly/2023-03-13/
LOCATION:Legg Lake\, South El Monte\, CA\, 91733\, United States
GEO:34.032107;-118.063331
END:VEVENT
BEGIN:VEVENT
DTSTART;TZID=America/Los_Angeles:20230213T080000
DTEND;TZID=America/Los_Angeles:20230213T140000
DTSTAMP:20260421T073611
CREATED:20190211T151749Z
LAST-MODIFIED:20250210T142356Z
UID:10000155-1676275200-1676296800@www.sgvrcl.com
SUMMARY:SGVRCL Float Fly
DESCRIPTION:Jul 25\, 2018
URL:http://www.sgvrcl.com/event/sgvrcl-float-fly/2023-02-13/
LOCATION:Legg Lake\, South El Monte\, CA\, 91733\, United States
GEO:34.032107;-118.063331
END:VEVENT
BEGIN:VEVENT
DTSTART;TZID=America/Los_Angeles:20230109T080000
DTEND;TZID=America/Los_Angeles:20230109T140000
DTSTAMP:20260421T073611
CREATED:20190211T151749Z
LAST-MODIFIED:20250210T142356Z
UID:10000154-1673251200-1673272800@www.sgvrcl.com
SUMMARY:SGVRCL Float Fly
DESCRIPTION:Jul 25\, 2018
URL:http://www.sgvrcl.com/event/sgvrcl-float-fly/2023-01-09/
LOCATION:Legg Lake\, South El Monte\, CA\, 91733\, United States
GEO:34.032107;-118.063331
END:VEVENT
BEGIN:VEVENT
DTSTART;TZID=America/Los_Angeles:20221212T080000
DTEND;TZID=America/Los_Angeles:20221212T140000
DTSTAMP:20260421T073611
CREATED:20221211T183659Z
LAST-MODIFIED:20221211T183700Z
UID:10000153-1670832000-1670853600@www.sgvrcl.com
SUMMARY:CANCELED - SGVRCL Float Fly
DESCRIPTION:Jul 25\, 2018
URL:http://www.sgvrcl.com/event/sgvrcl-float-fly-3/
LOCATION:Legg Lake\, South El Monte\, CA\, 91733\, United States
GEO:34.032107;-118.063331
END:VEVENT
BEGIN:VEVENT
DTSTART;TZID=America/Los_Angeles:20221114T080000
DTEND;TZID=America/Los_Angeles:20221114T140000
DTSTAMP:20260421T073611
CREATED:20190211T151749Z
LAST-MODIFIED:20250210T142356Z
UID:10000152-1668412800-1668434400@www.sgvrcl.com
SUMMARY:SGVRCL Float Fly
DESCRIPTION:Jul 25\, 2018
URL:http://www.sgvrcl.com/event/sgvrcl-float-fly/2022-11-14/
LOCATION:Legg Lake\, South El Monte\, CA\, 91733\, United States
GEO:34.032107;-118.063331
END:VEVENT
BEGIN:VEVENT
DTSTART;TZID=America/Los_Angeles:20221010T080000
DTEND;TZID=America/Los_Angeles:20221010T140000
DTSTAMP:20260421T073611
CREATED:20190211T151749Z
LAST-MODIFIED:20250210T142356Z
UID:10000151-1665388800-1665410400@www.sgvrcl.com
SUMMARY:SGVRCL Float Fly
DESCRIPTION:Jul 25\, 2018
URL:http://www.sgvrcl.com/event/sgvrcl-float-fly/2022-10-10/
LOCATION:Legg Lake\, South El Monte\, CA\, 91733\, United States
GEO:34.032107;-118.063331
END:VEVENT
BEGIN:VEVENT
DTSTART;TZID=America/Los_Angeles:20220912T080000
DTEND;TZID=America/Los_Angeles:20220912T140000
DTSTAMP:20260421T073611
CREATED:20190211T151749Z
LAST-MODIFIED:20250210T142356Z
UID:10000150-1662969600-1662991200@www.sgvrcl.com
SUMMARY:SGVRCL Float Fly
DESCRIPTION:Jul 25\, 2018
URL:http://www.sgvrcl.com/event/sgvrcl-float-fly/2022-09-12/
LOCATION:Legg Lake\, South El Monte\, CA\, 91733\, United States
GEO:34.032107;-118.063331
END:VEVENT
BEGIN:VEVENT
DTSTART;TZID=America/Los_Angeles:20220808T080000
DTEND;TZID=America/Los_Angeles:20220808T140000
DTSTAMP:20260421T073611
CREATED:20190211T151749Z
LAST-MODIFIED:20250210T142356Z
UID:10000149-1659945600-1659967200@www.sgvrcl.com
SUMMARY:SGVRCL Float Fly
DESCRIPTION:Jul 25\, 2018
URL:http://www.sgvrcl.com/event/sgvrcl-float-fly/2022-08-08/
LOCATION:Legg Lake\, South El Monte\, CA\, 91733\, United States
GEO:34.032107;-118.063331
END:VEVENT
BEGIN:VEVENT
DTSTART;TZID=America/Los_Angeles:20220711T080000
DTEND;TZID=America/Los_Angeles:20220711T140000
DTSTAMP:20260421T073611
CREATED:20190211T151749Z
LAST-MODIFIED:20250210T142356Z
UID:10000148-1657526400-1657548000@www.sgvrcl.com
SUMMARY:SGVRCL Float Fly
DESCRIPTION:Jul 25\, 2018
URL:http://www.sgvrcl.com/event/sgvrcl-float-fly/2022-07-11/
LOCATION:Legg Lake\, South El Monte\, CA\, 91733\, United States
GEO:34.032107;-118.063331
END:VEVENT
BEGIN:VEVENT
DTSTART;TZID=America/Los_Angeles:20220613T080000
DTEND;TZID=America/Los_Angeles:20220613T140000
DTSTAMP:20260421T073611
CREATED:20190211T151749Z
LAST-MODIFIED:20250210T142356Z
UID:10000147-1655107200-1655128800@www.sgvrcl.com
SUMMARY:SGVRCL Float Fly
DESCRIPTION:Jul 25\, 2018
URL:http://www.sgvrcl.com/event/sgvrcl-float-fly/2022-06-13/
LOCATION:Legg Lake\, South El Monte\, CA\, 91733\, United States
GEO:34.032107;-118.063331
END:VEVENT
BEGIN:VEVENT
DTSTART;TZID=America/Los_Angeles:20220509T080000
DTEND;TZID=America/Los_Angeles:20220509T140000
DTSTAMP:20260421T073611
CREATED:20190211T151749Z
LAST-MODIFIED:20250210T142356Z
UID:10000146-1652083200-1652104800@www.sgvrcl.com
SUMMARY:SGVRCL Float Fly
DESCRIPTION:Jul 25\, 2018
URL:http://www.sgvrcl.com/event/sgvrcl-float-fly/2022-05-09/
LOCATION:Legg Lake\, South El Monte\, CA\, 91733\, United States
GEO:34.032107;-118.063331
END:VEVENT
BEGIN:VEVENT
DTSTART;TZID=America/Los_Angeles:20220411T080000
DTEND;TZID=America/Los_Angeles:20220411T140000
DTSTAMP:20260421T073611
CREATED:20190211T151749Z
LAST-MODIFIED:20250210T142356Z
UID:10000145-1649664000-1649685600@www.sgvrcl.com
SUMMARY:SGVRCL Float Fly
DESCRIPTION:Jul 25\, 2018
URL:http://www.sgvrcl.com/event/sgvrcl-float-fly/2022-04-11/
LOCATION:Legg Lake\, South El Monte\, CA\, 91733\, United States
GEO:34.032107;-118.063331
END:VEVENT
END:VCALENDAR