BEGIN:VCALENDAR
VERSION:2.0
PRODID:-//San Gabriel Valley Radio Control League - ECPv6.15.20//NONSGML v1.0//EN
CALSCALE:GREGORIAN
METHOD:PUBLISH
X-ORIGINAL-URL:http://www.sgvrcl.com
X-WR-CALDESC:Events for San Gabriel Valley Radio Control League
REFRESH-INTERVAL;VALUE=DURATION:PT1H
X-Robots-Tag:noindex
X-PUBLISHED-TTL:PT1H
BEGIN:VTIMEZONE
TZID:America/Los_Angeles
BEGIN:DAYLIGHT
TZOFFSETFROM:-0800
TZOFFSETTO:-0700
TZNAME:PDT
DTSTART:20170312T100000
END:DAYLIGHT
BEGIN:STANDARD
TZOFFSETFROM:-0700
TZOFFSETTO:-0800
TZNAME:PST
DTSTART:20171105T090000
END:STANDARD
BEGIN:DAYLIGHT
TZOFFSETFROM:-0800
TZOFFSETTO:-0700
TZNAME:PDT
DTSTART:20180311T100000
END:DAYLIGHT
BEGIN:STANDARD
TZOFFSETFROM:-0700
TZOFFSETTO:-0800
TZNAME:PST
DTSTART:20181104T090000
END:STANDARD
BEGIN:DAYLIGHT
TZOFFSETFROM:-0800
TZOFFSETTO:-0700
TZNAME:PDT
DTSTART:20190310T100000
END:DAYLIGHT
BEGIN:STANDARD
TZOFFSETFROM:-0700
TZOFFSETTO:-0800
TZNAME:PST
DTSTART:20191103T090000
END:STANDARD
END:VTIMEZONE
BEGIN:VEVENT
DTSTART;TZID=America/Los_Angeles:20180829T193000
DTEND;TZID=America/Los_Angeles:20180829T213000
DTSTAMP:20260421T155004
CREATED:20180829T182307Z
LAST-MODIFIED:20180829T182307Z
UID:10000186-1535571000-1535578200@www.sgvrcl.com
SUMMARY:SGVRCL Club Meeting
DESCRIPTION:
URL:http://www.sgvrcl.com/event/sgvrcl-club-meeting-4/
LOCATION:El Monte Airport\, 4233 Santa Anita Ave\, El Monte\, CA\, 91731\, United States
END:VEVENT
BEGIN:VEVENT
DTSTART;TZID=America/Los_Angeles:20180828T193000
DTEND;TZID=America/Los_Angeles:20180828T210000
DTSTAMP:20260421T155004
CREATED:20180725T185611Z
LAST-MODIFIED:20180725T185611Z
UID:10000202-1535484600-1535490000@www.sgvrcl.com
SUMMARY:SGVRCL Club Meeting
DESCRIPTION:
URL:http://www.sgvrcl.com/event/sgvrcl-club-meeting-2/
LOCATION:El Monte Airport\, 4233 Santa Anita Ave\, El Monte\, CA\, 91731\, United States
END:VEVENT
BEGIN:VEVENT
DTSTART;TZID=America/Los_Angeles:20180814T190000
DTEND;TZID=America/Los_Angeles:20180814T203000
DTSTAMP:20260421T155004
CREATED:20180725T185529Z
LAST-MODIFIED:20180725T185529Z
UID:10000201-1534273200-1534278600@www.sgvrcl.com
SUMMARY:SGVRCL Board Meeting
DESCRIPTION:
URL:http://www.sgvrcl.com/event/sgvrcl-board-meeting/
LOCATION:El Monte Airport\, 4233 Santa Anita Ave\, El Monte\, CA\, 91731\, United States
END:VEVENT
BEGIN:VEVENT
DTSTART;TZID=America/Los_Angeles:20180813T080000
DTEND;TZID=America/Los_Angeles:20180813T140000
DTSTAMP:20260421T155004
CREATED:20180725T185443Z
LAST-MODIFIED:20180725T185443Z
UID:10000200-1534147200-1534168800@www.sgvrcl.com
SUMMARY:Float Fly
DESCRIPTION:
URL:http://www.sgvrcl.com/event/float-fly/
LOCATION:Legg Lake\, South El Monte\, CA\, 91733\, United States
GEO:34.032107;-118.063331
END:VEVENT
BEGIN:VEVENT
DTSTART;TZID=America/Los_Angeles:20180724T190000
DTEND;TZID=America/Los_Angeles:20180724T210000
DTSTAMP:20260421T155004
CREATED:20180725T031102Z
LAST-MODIFIED:20180725T031102Z
UID:10000199-1532458800-1532466000@www.sgvrcl.com
SUMMARY:SGVRCL Club Meeting
DESCRIPTION:
URL:http://www.sgvrcl.com/event/sgvrcl-club-meeting/
LOCATION:El Monte Airport\, 4233 Santa Anita Ave\, El Monte\, CA\, 91731\, United States
END:VEVENT
END:VCALENDAR