BEGIN:VCALENDAR
VERSION:2.0
PRODID:-//San Gabriel Valley Radio Control League - ECPv6.15.20//NONSGML v1.0//EN
CALSCALE:GREGORIAN
METHOD:PUBLISH
X-WR-CALNAME:San Gabriel Valley Radio Control League
X-ORIGINAL-URL:http://www.sgvrcl.com
X-WR-CALDESC:Events for San Gabriel Valley Radio Control League
REFRESH-INTERVAL;VALUE=DURATION:PT1H
X-Robots-Tag:noindex
X-PUBLISHED-TTL:PT1H
BEGIN:VTIMEZONE
TZID:America/Los_Angeles
BEGIN:DAYLIGHT
TZOFFSETFROM:-0800
TZOFFSETTO:-0700
TZNAME:PDT
DTSTART:20290311T100000
END:DAYLIGHT
BEGIN:STANDARD
TZOFFSETFROM:-0700
TZOFFSETTO:-0800
TZNAME:PST
DTSTART:20291104T090000
END:STANDARD
BEGIN:DAYLIGHT
TZOFFSETFROM:-0800
TZOFFSETTO:-0700
TZNAME:PDT
DTSTART:20300310T100000
END:DAYLIGHT
BEGIN:STANDARD
TZOFFSETFROM:-0700
TZOFFSETTO:-0800
TZNAME:PST
DTSTART:20301103T090000
END:STANDARD
BEGIN:DAYLIGHT
TZOFFSETFROM:-0800
TZOFFSETTO:-0700
TZNAME:PDT
DTSTART:20310309T100000
END:DAYLIGHT
BEGIN:STANDARD
TZOFFSETFROM:-0700
TZOFFSETTO:-0800
TZNAME:PST
DTSTART:20311102T090000
END:STANDARD
END:VTIMEZONE
BEGIN:VEVENT
DTSTART;TZID=America/Los_Angeles:20300325T190000
DTEND;TZID=America/Los_Angeles:20300325T203000
DTSTAMP:20260421T103525
CREATED:20250910T022211Z
LAST-MODIFIED:20250910T022212Z
UID:10000605-1900695600-1900701000@www.sgvrcl.com
SUMMARY:SGVRCL Club Meeting
DESCRIPTION:
URL:http://www.sgvrcl.com/event/sgvrcl-club-meeting-15-3/2030-03-25/
LOCATION:540 E Vine Ave West Covina\, CA\, 540 E Vine Ave\, West Covina\, CA
END:VEVENT
BEGIN:VEVENT
DTSTART;TZID=America/Los_Angeles:20300410T090000
DTEND;TZID=America/Los_Angeles:20300410T130000
DTSTAMP:20260421T103525
CREATED:20250910T020945Z
LAST-MODIFIED:20250910T020945Z
UID:10000546-1902042000-1902056400@www.sgvrcl.com
SUMMARY:SGVRCL Float Fly
DESCRIPTION:
URL:http://www.sgvrcl.com/event/sgvrcl-float-fly-4/2030-04-10/
LOCATION:Legg Lake\, South El Monte\, CA\, 91733\, United States
GEO:34.032107;-118.063331
END:VEVENT
BEGIN:VEVENT
DTSTART;TZID=America/Los_Angeles:20300422T190000
DTEND;TZID=America/Los_Angeles:20300422T203000
DTSTAMP:20260421T103525
CREATED:20250910T022211Z
LAST-MODIFIED:20250910T022212Z
UID:10000606-1903114800-1903120200@www.sgvrcl.com
SUMMARY:SGVRCL Club Meeting
DESCRIPTION:
URL:http://www.sgvrcl.com/event/sgvrcl-club-meeting-15-3/2030-04-22/
LOCATION:540 E Vine Ave West Covina\, CA\, 540 E Vine Ave\, West Covina\, CA
END:VEVENT
BEGIN:VEVENT
DTSTART;TZID=America/Los_Angeles:20300508T090000
DTEND;TZID=America/Los_Angeles:20300508T130000
DTSTAMP:20260421T103525
CREATED:20250910T020945Z
LAST-MODIFIED:20250910T020945Z
UID:10000547-1904461200-1904475600@www.sgvrcl.com
SUMMARY:SGVRCL Float Fly
DESCRIPTION:
URL:http://www.sgvrcl.com/event/sgvrcl-float-fly-4/2030-05-08/
LOCATION:Legg Lake\, South El Monte\, CA\, 91733\, United States
GEO:34.032107;-118.063331
END:VEVENT
BEGIN:VEVENT
DTSTART;TZID=America/Los_Angeles:20300527T190000
DTEND;TZID=America/Los_Angeles:20300527T203000
DTSTAMP:20260421T103525
CREATED:20250910T022211Z
LAST-MODIFIED:20250910T022212Z
UID:10000607-1906138800-1906144200@www.sgvrcl.com
SUMMARY:SGVRCL Club Meeting
DESCRIPTION:
URL:http://www.sgvrcl.com/event/sgvrcl-club-meeting-15-3/2030-05-27/
LOCATION:540 E Vine Ave West Covina\, CA\, 540 E Vine Ave\, West Covina\, CA
END:VEVENT
BEGIN:VEVENT
DTSTART;TZID=America/Los_Angeles:20300612T090000
DTEND;TZID=America/Los_Angeles:20300612T130000
DTSTAMP:20260421T103525
CREATED:20250910T020945Z
LAST-MODIFIED:20250910T020945Z
UID:10000548-1907485200-1907499600@www.sgvrcl.com
SUMMARY:SGVRCL Float Fly
DESCRIPTION:
URL:http://www.sgvrcl.com/event/sgvrcl-float-fly-4/2030-06-12/
LOCATION:Legg Lake\, South El Monte\, CA\, 91733\, United States
GEO:34.032107;-118.063331
END:VEVENT
BEGIN:VEVENT
DTSTART;TZID=America/Los_Angeles:20300624T190000
DTEND;TZID=America/Los_Angeles:20300624T203000
DTSTAMP:20260421T103525
CREATED:20250910T022211Z
LAST-MODIFIED:20250910T022212Z
UID:10000608-1908558000-1908563400@www.sgvrcl.com
SUMMARY:SGVRCL Club Meeting
DESCRIPTION:
URL:http://www.sgvrcl.com/event/sgvrcl-club-meeting-15-3/2030-06-24/
LOCATION:540 E Vine Ave West Covina\, CA\, 540 E Vine Ave\, West Covina\, CA
END:VEVENT
BEGIN:VEVENT
DTSTART;TZID=America/Los_Angeles:20300710T090000
DTEND;TZID=America/Los_Angeles:20300710T130000
DTSTAMP:20260421T103525
CREATED:20250910T020945Z
LAST-MODIFIED:20250910T020945Z
UID:10000549-1909904400-1909918800@www.sgvrcl.com
SUMMARY:SGVRCL Float Fly
DESCRIPTION:
URL:http://www.sgvrcl.com/event/sgvrcl-float-fly-4/2030-07-10/
LOCATION:Legg Lake\, South El Monte\, CA\, 91733\, United States
GEO:34.032107;-118.063331
END:VEVENT
BEGIN:VEVENT
DTSTART;TZID=America/Los_Angeles:20300722T190000
DTEND;TZID=America/Los_Angeles:20300722T203000
DTSTAMP:20260421T103525
CREATED:20250910T022211Z
LAST-MODIFIED:20250910T022212Z
UID:10000609-1910977200-1910982600@www.sgvrcl.com
SUMMARY:SGVRCL Club Meeting
DESCRIPTION:
URL:http://www.sgvrcl.com/event/sgvrcl-club-meeting-15-3/2030-07-22/
LOCATION:540 E Vine Ave West Covina\, CA\, 540 E Vine Ave\, West Covina\, CA
END:VEVENT
BEGIN:VEVENT
DTSTART;TZID=America/Los_Angeles:20300814T090000
DTEND;TZID=America/Los_Angeles:20300814T130000
DTSTAMP:20260421T103525
CREATED:20250910T020945Z
LAST-MODIFIED:20250910T020945Z
UID:10000550-1912928400-1912942800@www.sgvrcl.com
SUMMARY:SGVRCL Float Fly
DESCRIPTION:
URL:http://www.sgvrcl.com/event/sgvrcl-float-fly-4/2030-08-14/
LOCATION:Legg Lake\, South El Monte\, CA\, 91733\, United States
GEO:34.032107;-118.063331
END:VEVENT
BEGIN:VEVENT
DTSTART;TZID=America/Los_Angeles:20300826T190000
DTEND;TZID=America/Los_Angeles:20300826T203000
DTSTAMP:20260421T103525
CREATED:20250910T022211Z
LAST-MODIFIED:20250910T022212Z
UID:10000610-1914001200-1914006600@www.sgvrcl.com
SUMMARY:SGVRCL Club Meeting
DESCRIPTION:
URL:http://www.sgvrcl.com/event/sgvrcl-club-meeting-15-3/2030-08-26/
LOCATION:540 E Vine Ave West Covina\, CA\, 540 E Vine Ave\, West Covina\, CA
END:VEVENT
END:VCALENDAR